BEGIN:VCALENDAR
VERSION:2.0
PRODID:SchoolNow
CALSCALE:GREGORIAN
BEGIN:VEVENT
UID:cac54f3a-1e3a-11eb-baa3-1204c5e1d457
DTSTAMP:20201104T011222Z
SUMMARY:Park Street In-Store Book Fair
URL;VALUE=URI:https://www.norwood.k12.ma.us/cleveland/calendar/2488667/park
 -street-in-store-book-fair
DTSTART:20201119T140000Z
DTEND:20201119T230000Z
ATTACH;FILENAME=Park Street Bookfair Flyer.pdf;FMTTYPE=application/pdf:http
 s://campussuite-storage.s3.amazonaws.com/prod/1213978/583ade96-581b-11e7-9
 9ef-124f7febbf4a/2180041/1f27de40-1e3a-11eb-ad80-1204c5e1d457/file/Park St
 reet Bookfair Flyer.pdf
END:VEVENT
END:VCALENDAR
