BEGIN:VCALENDAR
VERSION:2.0
PRODID:SchoolNow
CALSCALE:GREGORIAN
BEGIN:VEVENT
UID:1c03a400-1e3b-11eb-b420-0aec5f586713
DTSTAMP:20201104T011438Z
SUMMARY:PTO Bertucci's Fundraiser
URL;VALUE=URI:https://www.norwood.k12.ma.us/cleveland/calendar/2488668/pto-
 bertuccis-fundraiser
DTSTART:20201125T160000Z
DTEND:20201126T023000Z
END:VEVENT
END:VCALENDAR
