BEGIN:VCALENDAR
VERSION:2.0
PRODID:SchoolNow
CALSCALE:GREGORIAN
BEGIN:VEVENT
UID:8454e06e-1e3b-11eb-8042-0aec5f586713
DTSTAMP:20201104T011733Z
SUMMARY:PTO Conrad's Fundraiser
URL;VALUE=URI:https://www.norwood.k12.ma.us/cleveland/calendar/2488669/pto-
 conrads-fundraiser
DTSTART:20201207T163000Z
DTEND:20201208T030000Z
END:VEVENT
END:VCALENDAR
