BEGIN:VCALENDAR
VERSION:2.0
PRODID:SchoolNow
CALSCALE:GREGORIAN
BEGIN:VEVENT
UID:54e2c61c-aa2b-11eb-b95e-0ac87e769e5b
DTSTAMP:20210501T031424Z
SUMMARY:PTO Daddy's Dairy Fundraiser
URL;VALUE=URI:https://www.norwood.k12.ma.us/cleveland/calendar/2590554/pto-
 daddys-dairy-fundraiser
DTSTART:20210504T040000Z
DTEND:20210504T041200Z
END:VEVENT
END:VCALENDAR
