BEGIN:VCALENDAR
VERSION:2.0
PRODID:SchoolNow
CALSCALE:GREGORIAN
BEGIN:VEVENT
UID:62cb7288-f5ee-11eb-8dd4-0a4c584a8ccf
DTSTAMP:20210805T131522Z
SUMMARY:No School - Professional Days
URL;VALUE=URI:https://www.norwood.k12.ma.us/cleveland/calendar/2655595/no-s
 chool-professional-days
DTSTART;VALUE=DATE:20210901
DTEND;VALUE=DATE:20210903
END:VEVENT
END:VCALENDAR
