BEGIN:VCALENDAR
VERSION:2.0
PRODID:SchoolNow
CALSCALE:GREGORIAN
BEGIN:VEVENT
UID:82fbe54c-f5ee-11eb-902f-0a4c584a8ccf
DTSTAMP:20210805T131517Z
SUMMARY:No School - Holiday
URL;VALUE=URI:https://www.norwood.k12.ma.us/cleveland/calendar/2655604/no-s
 chool-labor-day-holiday-observed
DTSTART;VALUE=DATE:20210903
DTEND;VALUE=DATE:20210908
END:VEVENT
END:VCALENDAR
