BEGIN:VCALENDAR
VERSION:2.0
PRODID:SchoolNow
CALSCALE:GREGORIAN
BEGIN:VEVENT
UID:9d0d09c0-f5ee-11eb-a320-0a4c584a8ccf
DTSTAMP:20210805T131115Z
SUMMARY:First Day of School Grades 1-12
URL;VALUE=URI:https://www.norwood.k12.ma.us/cleveland/calendar/2655613/firs
 t-day-of-school-grades-1-12
DTSTART;VALUE=DATE:20210908
DTEND;VALUE=DATE:20210909
END:VEVENT
END:VCALENDAR
