BEGIN:VCALENDAR
VERSION:2.0
PRODID:SchoolNow
CALSCALE:GREGORIAN
BEGIN:VEVENT
UID:2102cc1a-f5ef-11eb-ba95-0a4c584a8ccf
DTSTAMP:20211008T201307Z
SUMMARY:No School - Columbus Day
URL;VALUE=URI:https://www.norwood.k12.ma.us/cleveland/calendar/2655637/no-s
 chool-holiday
DTSTART;VALUE=DATE:20211011
DTEND;VALUE=DATE:20211012
END:VEVENT
END:VCALENDAR
