BEGIN:VCALENDAR
VERSION:2.0
PRODID:SchoolNow
CALSCALE:GREGORIAN
BEGIN:VEVENT
UID:52a62fa0-f5ef-11eb-9f34-0a4c584a8ccf
DTSTAMP:20210805T131619Z
SUMMARY:No School - Professional Day
URL;VALUE=URI:https://www.norwood.k12.ma.us/cleveland/calendar/2655646/no-s
 chool-professional-day
DTSTART;VALUE=DATE:20211102
DTEND;VALUE=DATE:20211103
END:VEVENT
END:VCALENDAR
