BEGIN:VCALENDAR
VERSION:2.0
PRODID:SchoolNow
CALSCALE:GREGORIAN
BEGIN:VEVENT
UID:814a5412-f5ef-11eb-a58d-0a4c584a8ccf
DTSTAMP:20211008T201341Z
SUMMARY:No School - Veterans Day
URL;VALUE=URI:https://www.norwood.k12.ma.us/cleveland/calendar/2655655/no-s
 chool-holiday
DTSTART;VALUE=DATE:20211111
DTEND;VALUE=DATE:20211112
END:VEVENT
END:VCALENDAR
