BEGIN:VCALENDAR
VERSION:2.0
PRODID:SchoolNow
CALSCALE:GREGORIAN
BEGIN:VEVENT
UID:9f178c30-f5ef-11eb-b007-0a4c584a8ccf
DTSTAMP:20211123T135927Z
SUMMARY:Early Release All Schools - Parent Conferences
URL;VALUE=URI:https://www.norwood.k12.ma.us/cleveland/calendar/2655664/earl
 y-release-all-schools-parent-conferences
DTSTART;VALUE=DATE:20211117
DTEND;VALUE=DATE:20211118
END:VEVENT
END:VCALENDAR
