BEGIN:VCALENDAR
VERSION:2.0
PRODID:SchoolNow
CALSCALE:GREGORIAN
BEGIN:VEVENT
UID:cd4c307e-f5ef-11eb-b06e-0a4c584a8ccf
DTSTAMP:20211008T201403Z
SUMMARY:No School - Thanksgiving Break
URL;VALUE=URI:https://www.norwood.k12.ma.us/cleveland/calendar/2655674/no-s
 chool-holiday
DTSTART;VALUE=DATE:20211125
DTEND;VALUE=DATE:20211127
END:VEVENT
END:VCALENDAR
