BEGIN:VCALENDAR
VERSION:2.0
PRODID:SchoolNow
CALSCALE:GREGORIAN
BEGIN:VEVENT
UID:df48b568-f5ef-11eb-ab94-0a4c584a8ccf
DTSTAMP:20211123T135824Z
SUMMARY:Early Release All Schools
URL;VALUE=URI:https://www.norwood.k12.ma.us/cleveland/calendar/2655683/earl
 y-release-all-schools
DTSTART;VALUE=DATE:20211208
DTEND;VALUE=DATE:20211209
END:VEVENT
END:VCALENDAR
