BEGIN:VCALENDAR
VERSION:2.0
PRODID:SchoolNow
CALSCALE:GREGORIAN
BEGIN:VEVENT
UID:41322b24-f5f0-11eb-892d-0a4c584a8ccf
DTSTAMP:20211008T201453Z
SUMMARY:No School - Martin Luther King Jr. Day
URL;VALUE=URI:https://www.norwood.k12.ma.us/cleveland/calendar/2655719/no-s
 chool-holiday
DTSTART;VALUE=DATE:20220117
DTEND;VALUE=DATE:20220118
END:VEVENT
END:VCALENDAR
