BEGIN:VCALENDAR
VERSION:2.0
PRODID:SchoolNow
CALSCALE:GREGORIAN
BEGIN:VEVENT
UID:14375ada-f5f1-11eb-89d8-0a4c584a8ccf
DTSTAMP:20211123T135856Z
SUMMARY:Early Release All Schools
URL;VALUE=URI:https://www.norwood.k12.ma.us/cleveland/calendar/2655740/earl
 y-release-all-schools
DTSTART;VALUE=DATE:20220210
DTEND;VALUE=DATE:20220211
END:VEVENT
END:VCALENDAR
