BEGIN:VCALENDAR
VERSION:2.0
PRODID:SchoolNow
CALSCALE:GREGORIAN
BEGIN:VEVENT
UID:456a02b2-f5f4-11eb-8088-0edac73bbcd3
DTSTAMP:20211008T201553Z
SUMMARY:No School - Good Friday
URL;VALUE=URI:https://www.norwood.k12.ma.us/cleveland/calendar/2655768/no-s
 chool-holiday
DTSTART;VALUE=DATE:20220415
DTEND;VALUE=DATE:20220416
END:VEVENT
END:VCALENDAR
