BEGIN:VCALENDAR
VERSION:2.0
PRODID:SchoolNow
CALSCALE:GREGORIAN
BEGIN:VEVENT
UID:5a50b428-f5f4-11eb-b1b2-0edac73bbcd3
DTSTAMP:20211008T201614Z
SUMMARY:No School - Spring Vacation
URL;VALUE=URI:https://www.norwood.k12.ma.us/cleveland/calendar/2655778/no-s
 chool-vacation
DTSTART;VALUE=DATE:20220418
DTEND;VALUE=DATE:20220423
END:VEVENT
END:VCALENDAR
