BEGIN:VCALENDAR
VERSION:2.0
PRODID:SchoolNow
CALSCALE:GREGORIAN
BEGIN:VEVENT
UID:d3876ecc-f5f4-11eb-be99-0edac73bbcd3
DTSTAMP:20211008T201806Z
SUMMARY:No School - Juneteenth
URL;VALUE=URI:https://www.norwood.k12.ma.us/cleveland/calendar/2655815/no-s
 chool-holiday
DTSTART;VALUE=DATE:20220620
DTEND;VALUE=DATE:20220621
END:VEVENT
END:VCALENDAR
