BEGIN:VCALENDAR
VERSION:2.0
PRODID:SchoolNow
CALSCALE:GREGORIAN
BEGIN:VEVENT
UID:edb2d980-f5f4-11eb-8fee-0edac73bbcd3
DTSTAMP:20220614T143916Z
SUMMARY:Last Day of School - Early Release
URL;VALUE=URI:https://www.norwood.k12.ma.us/cleveland/calendar/2655826/180t
 h-school-day-early-release-for-students
DTSTART;VALUE=DATE:20220624
DTEND;VALUE=DATE:20220625
END:VEVENT
END:VCALENDAR
