BEGIN:VCALENDAR
VERSION:2.0
PRODID:SchoolNow
CALSCALE:GREGORIAN
BEGIN:VEVENT
UID:6c06b700-27f2-11ec-be10-0a8825499a03
DTSTAMP:20211008T045101Z
SUMMARY:Chateau PTO Fundraiser
URL;VALUE=URI:https://www.norwood.k12.ma.us/cleveland/calendar/2799652/chat
 eau-pto-fundraiser
DTSTART:20211011T150000Z
DTEND:20211012T020000Z
END:VEVENT
END:VCALENDAR
