BEGIN:VCALENDAR
VERSION:2.0
PRODID:SchoolNow
CALSCALE:GREGORIAN
BEGIN:VEVENT
UID:a78cbac2-27f2-11ec-b8e7-0a8825499a03
DTSTAMP:20211008T045302Z
SUMMARY:Orange Leaf PTO Fundraiser
URL;VALUE=URI:https://www.norwood.k12.ma.us/cleveland/calendar/2799653/oran
 ge-leaf-fundraiser
DTSTART:20211022T140000Z
DTEND:20211023T020000Z
END:VEVENT
END:VCALENDAR
