BEGIN:VCALENDAR
VERSION:2.0
PRODID:SchoolNow
CALSCALE:GREGORIAN
BEGIN:VEVENT
UID:0adea388-27f3-11ec-b02f-0a8825499a03
DTSTAMP:20211008T044855Z
SUMMARY:Spookfest/Fall Festival
URL;VALUE=URI:https://www.norwood.k12.ma.us/cleveland/calendar/2799654/spoo
 kfest-fall-festival
DTSTART:20211029T200000Z
DTEND:20211029T220000Z
END:VEVENT
END:VCALENDAR
