BEGIN:VCALENDAR
VERSION:2.0
PRODID:SchoolNow
CALSCALE:GREGORIAN
BEGIN:VEVENT
UID:7223eef8-3b7c-11ec-8a32-0242a7ee8799
DTSTAMP:20211102T013021Z
SUMMARY:Parent Conferences/Evening
URL;VALUE=URI:https://www.norwood.k12.ma.us/cleveland/calendar/2862047/pare
 nt-conferences-evening
DTSTART:20211117T022900Z
DTEND:20211117T032900Z
END:VEVENT
END:VCALENDAR
