BEGIN:VCALENDAR
VERSION:2.0
PRODID:SchoolNow
CALSCALE:GREGORIAN
BEGIN:VEVENT
UID:615d72b4-3b7d-11ec-b283-0ee743f93fef
DTSTAMP:20211102T013703Z
SUMMARY:Fall Bookfair
URL;VALUE=URI:https://www.norwood.k12.ma.us/cleveland/calendar/2862048/fall
 -bookfair
DTSTART:20211117T023300Z
DTEND:20211117T033300Z
END:VEVENT
END:VCALENDAR
