BEGIN:VCALENDAR
VERSION:2.0
PRODID:SchoolNow
CALSCALE:GREGORIAN
BEGIN:VEVENT
UID:cc99d9ca-9cab-11ec-ba3c-0283c0b3a879
DTSTAMP:20220329T094255Z
SUMMARY:Gr 5 ELA MCAS
URL;VALUE=URI:https://www.norwood.k12.ma.us/cleveland/calendar/3125393/gr-3
 -ela-mcas
DTSTART:20220412T130000Z
DTEND:20220412T190000Z
END:VEVENT
END:VCALENDAR
