BEGIN:VCALENDAR
VERSION:2.0
PRODID:SchoolNow
CALSCALE:GREGORIAN
BEGIN:VEVENT
UID:1cd4d598-9cac-11ec-882d-0283c0b3a879
DTSTAMP:20220329T094309Z
SUMMARY:Gr 5 ELA MCAS
URL;VALUE=URI:https://www.norwood.k12.ma.us/cleveland/calendar/3125394/gr-3
 -ela-mcas
DTSTART:20220413T130000Z
DTEND:20220413T190000Z
END:VEVENT
END:VCALENDAR
