BEGIN:VCALENDAR
VERSION:2.0
PRODID:SchoolNow
CALSCALE:GREGORIAN
BEGIN:VEVENT
UID:8227844a-9cac-11ec-8f31-0283c0b3a879
DTSTAMP:20220329T094150Z
SUMMARY:Gr 3 ELA MCAS
URL;VALUE=URI:https://www.norwood.k12.ma.us/cleveland/calendar/3125395/gr-3
 -ela-mcas
DTSTART:20220406T130000Z
DTEND:20220406T190000Z
END:VEVENT
END:VCALENDAR
