BEGIN:VCALENDAR
VERSION:2.0
PRODID:SchoolNow
CALSCALE:GREGORIAN
BEGIN:VEVENT
UID:1e20e3e6-9cad-11ec-8a8f-0283c0b3a879
DTSTAMP:20220329T094325Z
SUMMARY:Gr 4 ELA MCAS
URL;VALUE=URI:https://www.norwood.k12.ma.us/cleveland/calendar/3125397/gr-4
 -ela-mcas
DTSTART:20220427T130000Z
DTEND:20220427T140000Z
END:VEVENT
END:VCALENDAR
