BEGIN:VCALENDAR
VERSION:2.0
PRODID:SchoolNow
CALSCALE:GREGORIAN
BEGIN:VEVENT
UID:a63a98a8-9cad-11ec-9abd-0283c0b3a879
DTSTAMP:20220329T094405Z
SUMMARY:Gr 3 Math MCAS
URL;VALUE=URI:https://www.norwood.k12.ma.us/cleveland/calendar/3125399/gr-3
 -math-mcas
DTSTART:20220517T130000Z
DTEND:20220517T140000Z
END:VEVENT
END:VCALENDAR
