BEGIN:VCALENDAR
VERSION:2.0
PRODID:SchoolNow
CALSCALE:GREGORIAN
BEGIN:VEVENT
UID:cd06c4b6-9cad-11ec-a4c0-0283c0b3a879
DTSTAMP:20220329T094425Z
SUMMARY:Grade 3 Math MCAS
URL;VALUE=URI:https://www.norwood.k12.ma.us/cleveland/calendar/3125400/grad
 e-3-math-mcas
DTSTART:20220518T130000Z
DTEND:20220518T140000Z
END:VEVENT
END:VCALENDAR
