BEGIN:VCALENDAR
VERSION:2.0
PRODID:SchoolNow
CALSCALE:GREGORIAN
BEGIN:VEVENT
UID:07adc970-9cae-11ec-aa1f-0283c0b3a879
DTSTAMP:20220329T094446Z
SUMMARY:Gr 5 Sci/Tech MCAS
URL;VALUE=URI:https://www.norwood.k12.ma.us/cleveland/calendar/3125401/gr-5
 -sci-tech-mcas
DTSTART:20220519T130000Z
DTEND:20220519T140000Z
END:VEVENT
END:VCALENDAR
