BEGIN:VCALENDAR
VERSION:2.0
PRODID:SchoolNow
CALSCALE:GREGORIAN
BEGIN:VEVENT
UID:45380e2c-9cae-11ec-a2ee-0283c0b3a879
DTSTAMP:20220329T094505Z
SUMMARY:Gr 5 Sci/Tech MCAS
URL;VALUE=URI:https://www.norwood.k12.ma.us/cleveland/calendar/3125402/gr-5
 -sci-tech-mcas
DTSTART:20220520T130000Z
DTEND:20220520T140000Z
END:VEVENT
END:VCALENDAR
