BEGIN:VCALENDAR
VERSION:2.0
PRODID:SchoolNow
CALSCALE:GREGORIAN
BEGIN:VEVENT
UID:72ef7436-9cae-11ec-b3b8-0283c0b3a879
DTSTAMP:20220329T094523Z
SUMMARY:Gr 4 Math MCAS
URL;VALUE=URI:https://www.norwood.k12.ma.us/cleveland/calendar/3125403/gr-4
 -math-mcas
DTSTART:20220523T130000Z
DTEND:20220523T140000Z
END:VEVENT
END:VCALENDAR
