BEGIN:VCALENDAR
VERSION:2.0
PRODID:SchoolNow
CALSCALE:GREGORIAN
BEGIN:VEVENT
UID:d2650cb4-9cae-11ec-b702-0283c0b3a879
DTSTAMP:20220329T094607Z
SUMMARY:Gr 5 Math MCAS
URL;VALUE=URI:https://www.norwood.k12.ma.us/cleveland/calendar/3125405/gr-5
 -math-mcas
DTSTART:20220525T130000Z
DTEND:20220525T140000Z
END:VEVENT
END:VCALENDAR
