BEGIN:VCALENDAR
VERSION:2.0
PRODID:SchoolNow
CALSCALE:GREGORIAN
BEGIN:VEVENT
UID:fbe133b0-9cae-11ec-b39b-0283c0b3a879
DTSTAMP:20220329T094626Z
SUMMARY:Gr 5 Math MCAS
URL;VALUE=URI:https://www.norwood.k12.ma.us/cleveland/calendar/3125406/gr-5
 -math-mcas
DTSTART:20220526T130000Z
DTEND:20220526T140000Z
END:VEVENT
END:VCALENDAR
