BEGIN:VCALENDAR
VERSION:2.0
PRODID:SchoolNow
CALSCALE:GREGORIAN
BEGIN:VEVENT
UID:b1eafb60-c666-11ec-9fe0-0a09cb2653bd
DTSTAMP:20220427T201451Z
SUMMARY:23rd Annual Fine Arts Festival at NHS
URL;VALUE=URI:https://www.norwood.k12.ma.us/cleveland/calendar/3182835/nps-
 23rd-annual-fine-arts-festival-at-nhs
DTSTART:20220430T140000Z
DTEND:20220430T180000Z
END:VEVENT
END:VCALENDAR
