BEGIN:VCALENDAR
VERSION:2.0
PRODID:SchoolNow
CALSCALE:GREGORIAN
BEGIN:VEVENT
UID:d69aeeb0-e098-11ec-8871-0207fb46f80b
DTSTAMP:20220531T041918Z
SUMMARY:Drop Everything and Read Day
URL;VALUE=URI:https://www.norwood.k12.ma.us/cleveland/calendar/3208334/drop
 -everything-and-read-day
DTSTART:20220623T041800Z
DTEND:20220623T051800Z
END:VEVENT
END:VCALENDAR
