BEGIN:VCALENDAR
VERSION:2.0
PRODID:SchoolNow
CALSCALE:GREGORIAN
BEGIN:VEVENT
UID:2ab4e162-ec3e-11ec-9b0b-0aca6eca568d
DTSTAMP:20220615T000029Z
SUMMARY:Norwood 150th At the Cleveland
URL;VALUE=URI:https://www.norwood.k12.ma.us/cleveland/calendar/3219818/norw
 ood-150th-at-the-cleveland
DTSTART:20220615T210000Z
DTEND:20220615T230000Z
END:VEVENT
END:VCALENDAR
