BEGIN:VCALENDAR
VERSION:2.0
PRODID:SchoolNow
CALSCALE:GREGORIAN
BEGIN:VEVENT
UID:56d6e992-012a-11ed-89de-0a92716e8889
DTSTAMP:20220711T150127Z
SUMMARY:Early Release All Schools
URL;VALUE=URI:https://www.norwood.k12.ma.us/cleveland/calendar/3240325/earl
 y-release-all-schools
DTSTART;VALUE=DATE:20220929
DTEND;VALUE=DATE:20220930
END:VEVENT
END:VCALENDAR
