BEGIN:VCALENDAR
VERSION:2.0
PRODID:SchoolNow
CALSCALE:GREGORIAN
BEGIN:VEVENT
UID:a907e14e-0148-11ed-87ed-0ec0e2f11e91
DTSTAMP:20220711T183830Z
SUMMARY:Early Release All Schools
URL;VALUE=URI:https://www.norwood.k12.ma.us/cleveland/calendar/3240598/earl
 y-release-all-schools
DTSTART;VALUE=DATE:20221208
DTEND;VALUE=DATE:20221209
END:VEVENT
END:VCALENDAR
