BEGIN:VCALENDAR
VERSION:2.0
PRODID:SchoolNow
CALSCALE:GREGORIAN
BEGIN:VEVENT
UID:0d8553b8-0149-11ed-8dc1-0ec0e2f11e91
DTSTAMP:20220711T184118Z
SUMMARY:No School - Professional Day
URL;VALUE=URI:https://www.norwood.k12.ma.us/cleveland/calendar/3240625/no-s
 chool-professional-development
DTSTART;VALUE=DATE:20230103
DTEND;VALUE=DATE:20230104
END:VEVENT
END:VCALENDAR
