BEGIN:VCALENDAR
VERSION:2.0
PRODID:SchoolNow
CALSCALE:GREGORIAN
BEGIN:VEVENT
UID:41205088-0149-11ed-a2c9-0ec0e2f11e91
DTSTAMP:20220711T184245Z
SUMMARY:Early Release All Schools
URL;VALUE=URI:https://www.norwood.k12.ma.us/cleveland/calendar/3240644/earl
 y-release-all-schools
DTSTART;VALUE=DATE:20230202
DTEND;VALUE=DATE:20230203
END:VEVENT
END:VCALENDAR
