BEGIN:VCALENDAR
VERSION:2.0
PRODID:SchoolNow
CALSCALE:GREGORIAN
BEGIN:VEVENT
UID:98cc773a-0149-11ed-8013-0ec0e2f11e91
DTSTAMP:20220711T184512Z
SUMMARY:No School Good Friday
URL;VALUE=URI:https://www.norwood.k12.ma.us/cleveland/calendar/3240671/no-s
 chool-good-friday
DTSTART;VALUE=DATE:20230407
DTEND;VALUE=DATE:20230408
END:VEVENT
END:VCALENDAR
