BEGIN:VCALENDAR
VERSION:2.0
PRODID:SchoolNow
CALSCALE:GREGORIAN
BEGIN:VEVENT
UID:7627abd6-014a-11ed-9665-0ec0e2f11e91
DTSTAMP:20220711T185123Z
SUMMARY:No School Juneteenth
URL;VALUE=URI:https://www.norwood.k12.ma.us/cleveland/calendar/3240714/no-s
 chool-juneteenth
DTSTART;VALUE=DATE:20230619
DTEND;VALUE=DATE:20230620
END:VEVENT
END:VCALENDAR
