BEGIN:VCALENDAR
VERSION:2.0
PRODID:SchoolNow
CALSCALE:GREGORIAN
BEGIN:VEVENT
UID:6ce9dc9e-2321-11ed-b464-0a9db340ee8b
DTSTAMP:20220823T202318Z
SUMMARY:Popsicles with the Principal
URL;VALUE=URI:https://www.norwood.k12.ma.us/cleveland/calendar/3298699/pops
 icles-with-the-principal
DTSTART:20220825T202200Z
DTEND:20220825T212200Z
END:VEVENT
END:VCALENDAR
