BEGIN:VCALENDAR
VERSION:2.0
PRODID:SchoolNow
CALSCALE:GREGORIAN
BEGIN:VEVENT
UID:a97298de-3246-11ed-bde6-0e0e197f4fb7
DTSTAMP:20220912T025739Z
SUMMARY:Chateau PTO Fundraiser
URL;VALUE=URI:https://www.norwood.k12.ma.us/cleveland/calendar/3378174/chat
 eau-pto-fundraiser
DTSTART;VALUE=DATE:20220913
DTEND;VALUE=DATE:20220914
END:VEVENT
END:VCALENDAR
