BEGIN:VCALENDAR
VERSION:2.0
PRODID:SchoolNow
CALSCALE:GREGORIAN
BEGIN:VEVENT
UID:a027512a-4074-11ed-8d2e-0a1891eb2489
DTSTAMP:20220930T040156Z
SUMMARY:Cleveland Open House
URL;VALUE=URI:https://www.norwood.k12.ma.us/cleveland/calendar/3463131/clev
 eland-open-house
DTSTART:20221006T213000Z
DTEND:20221006T233000Z
END:VEVENT
END:VCALENDAR
