BEGIN:VCALENDAR
VERSION:2.0
PRODID:SchoolNow
CALSCALE:GREGORIAN
BEGIN:VEVENT
UID:e9010416-4076-11ed-92f7-0ef68eb8739f
DTSTAMP:20220930T041924Z
SUMMARY:Jake N Joes PTO Fundraiser
URL;VALUE=URI:https://www.norwood.k12.ma.us/cleveland/calendar/3463132/jake
 -n-joes-fundraiser
DTSTART:20221013T040200Z
DTEND:20221013T050200Z
ATTACH;FILENAME=Jake and Joe's Flyer.pdf;FMTTYPE=application/pdf:https://ca
 mpussuite-storage.s3.amazonaws.com/prod/1213978/583ade96-581b-11e7-99ef-12
 4f7febbf4a/2485123/d0ea8a64-4076-11ed-8f0f-0ef68eb8739f/file/Jake and Joe'
 s Flyer.pdf
END:VEVENT
END:VCALENDAR
