BEGIN:VCALENDAR
VERSION:2.0
PRODID:SchoolNow
CALSCALE:GREGORIAN
BEGIN:VEVENT
UID:13a3cb40-407c-11ed-95d4-025135b0c575
DTSTAMP:20220930T045516Z
SUMMARY:Cleveland Fall Fest
URL;VALUE=URI:https://www.norwood.k12.ma.us/cleveland/calendar/3463133/clev
 eland-fall-fest
DTSTART:20221014T200000Z
DTEND:20221014T220000Z
END:VEVENT
END:VCALENDAR
