BEGIN:VCALENDAR
VERSION:2.0
PRODID:SchoolNow
CALSCALE:GREGORIAN
BEGIN:VEVENT
UID:a7bc9068-54a5-11ed-b0d9-02fefd446e3f
DTSTAMP:20221025T204430Z
SUMMARY:Orange Leaf PTO Fundraiser
URL;VALUE=URI:https://www.norwood.k12.ma.us/cleveland/calendar/3559627/oran
 ge-leaf-pto-fundraiser
DTSTART;VALUE=DATE:20221116
DTEND;VALUE=DATE:20221117
END:VEVENT
END:VCALENDAR
